BEGIN:VCALENDAR
VERSION:2.0
PRODID:-//Tukios.com/
BEGIN:VEVENT
UID:3d2738ce-0a13-4107-a95c-028d8a6ce467@www.howepeterson.com
DTSTAMP:20260422T012138Z
DTSTART:20260502T143000Z
DTEND:20260502T150000Z
SUMMARY:Memorial Gathering
DESCRIPTION:
URL:https://www.howepeterson.com/obituaries/calvin-gall
LOCATION: 22430 Michigan Ave.  Dearborn MI 48124
GEO:42.3048529;-83.2516088
END:VEVENT
END:VCALENDAR