BEGIN:VCALENDAR
VERSION:2.0
PRODID:-//Tukios.com/
BEGIN:VEVENT
UID:13b8cd65-3214-4bda-8b04-277e6282e367@www.howepeterson.com
DTSTAMP:20260422T012204Z
DTSTART:20260502T150000Z
DTEND:20260502T160000Z
SUMMARY:Memorial Service
DESCRIPTION:
URL:https://www.howepeterson.com/obituaries/calvin-gall
LOCATION: 22430 Michigan Ave.  Dearborn MI 48124
GEO:42.3048529;-83.2516088
END:VEVENT
END:VCALENDAR