BEGIN:VCALENDAR
VERSION:2.0
PRODID:-//Tukios.com/
BEGIN:VEVENT
UID:55d68b54-4660-42a6-8408-63a046a07141@www.howepeterson.com
DTSTAMP:20260422T174716Z
DTSTART:20260506T150000Z
DTEND:20260506T160000Z
SUMMARY:Celebration of Life
DESCRIPTION:
URL:https://www.howepeterson.com/obituaries/hugh-berry
LOCATION:Christ the King Lutheran Church 15600 Trenton Rd  Southgate MI 
	48195
GEO:42.1956924;-83.194205
END:VEVENT
END:VCALENDAR