BEGIN:VCALENDAR
VERSION:2.0
PRODID:-//Tukios.com/
BEGIN:VEVENT
UID:6009661b-f5e8-424f-8d0b-f14d9faf120e@www.howepeterson.com
DTSTAMP:20260422T174022Z
DTSTART:20260506T140000Z
DTEND:20260506T150000Z
SUMMARY:Memorial Gathering
DESCRIPTION:
URL:https://www.howepeterson.com/obituaries/hugh-berry
LOCATION: 15600 Trenton Rd  Southgate MI 48195
GEO:42.1956924;-83.194205
END:VEVENT
END:VCALENDAR