BEGIN:VCALENDAR
VERSION:2.0
PRODID:-//Tukios.com/
BEGIN:VEVENT
UID:a3faf9a1-d0ba-490d-ad55-d3869bdfb77f@www.howepeterson.com
DTSTAMP:20260424T004128Z
DTSTART:20260427T170000Z
DTEND:20260428T000000Z
SUMMARY:Visitation
DESCRIPTION:
URL:https://www.howepeterson.com/obituaries/jim-wright
LOCATION: 9800 Telegraph Rd  Taylor MI 48180
GEO:42.2359323;-83.2704537
END:VEVENT
END:VCALENDAR