BEGIN:VCALENDAR
VERSION:2.0
PRODID:-//Tukios.com/
BEGIN:VEVENT
UID:61abac38-f020-46d8-b53f-997ff0342f9e@www.howepeterson.com
DTSTAMP:20260424T004144Z
DTSTART:20260428T150000Z
DTEND:20260428T160000Z
SUMMARY:Celebration of Life
DESCRIPTION:
URL:https://www.howepeterson.com/obituaries/jim-wright
LOCATION: 9800 Telegraph Rd  Taylor MI 48180
GEO:42.2359323;-83.2704537
END:VEVENT
END:VCALENDAR