BEGIN:VCALENDAR
VERSION:2.0
PRODID:-//Tukios.com/
BEGIN:VEVENT
UID:a310f839-c2da-46bb-a825-6705e6b8ece0@www.howepeterson.com
DTSTAMP:20260420T225145Z
DTSTART:20260423T170000Z
DTEND:20260424T000000Z
SUMMARY:Visitation
DESCRIPTION:
URL:https://www.howepeterson.com/obituaries/lisa-wozniak
LOCATION: 22546 Michigan Ave  Dearborn MI 48124
GEO:42.3043954;-83.2533753
END:VEVENT
END:VCALENDAR