BEGIN:VCALENDAR
VERSION:2.0
PRODID:-//Tukios.com/
BEGIN:VEVENT
UID:6f3f02e5-1ac4-43d6-ac3c-73eff20e81b1@www.howepeterson.com
DTSTAMP:20260420T225113Z
DTSTART:20260424T150000Z
DTEND:20260424T160000Z
SUMMARY:Funeral Service
DESCRIPTION:
URL:https://www.howepeterson.com/obituaries/lisa-wozniak
LOCATION: 22546 Michigan Ave  Dearborn MI 48124
GEO:42.3043954;-83.2533753
END:VEVENT
END:VCALENDAR