BEGIN:VCALENDAR
VERSION:2.0
PRODID:-//Tukios.com/
BEGIN:VEVENT
UID:403ff90b-786b-4c98-b4f5-1ce41a709309@www.howepeterson.com
DTSTAMP:20260422T235033Z
DTSTART:20260423T190000Z
DTEND:20260424T000000Z
SUMMARY:Visitation
DESCRIPTION:
URL:https://www.howepeterson.com/obituaries/rd-gibson
LOCATION: 9800 Telegraph Rd  Taylor MI 48180
GEO:42.2359323;-83.2704537
END:VEVENT
END:VCALENDAR