BEGIN:VCALENDAR
VERSION:2.0
PRODID:-//Tukios.com/
BEGIN:VEVENT
UID:6512ccca-c7ce-49d2-85fe-722ab41c26ea@www.howepeterson.com
DTSTAMP:20260422T234915Z
DTSTART:20260423T230000Z
DTEND:20260424T000000Z
SUMMARY:Funeral Service
DESCRIPTION:
URL:https://www.howepeterson.com/obituaries/rd-gibson
LOCATION: 9800 Telegraph Rd  Taylor MI 48180
GEO:42.2359323;-83.2704537
END:VEVENT
END:VCALENDAR