BEGIN:VCALENDAR
VERSION:2.0
PRODID:-//Tukios.com/
BEGIN:VEVENT
UID:853332f4-137a-4f90-a8f4-5ec5d6f51c7f@www.howepeterson.com
DTSTAMP:20260422T234904Z
DTSTART:20260424T183000Z
DTEND:20260424T193000Z
SUMMARY:Burial
DESCRIPTION:
URL:https://www.howepeterson.com/obituaries/rd-gibson
LOCATION: 9400 West Fort Street  Detroit MI 48209
GEO:42.298961;-83.136769
END:VEVENT
END:VCALENDAR